BEGIN:VCALENDAR
VERSION:2.0
PRODID:-//Loyola College Of Social Science (Autonomous) - ECPv6.15.9//NONSGML v1.0//EN
CALSCALE:GREGORIAN
METHOD:PUBLISH
X-WR-CALNAME:Loyola College Of Social Science (Autonomous)
X-ORIGINAL-URL:https://loyolacollegekerala.edu.in
X-WR-CALDESC:Events for Loyola College Of Social Science (Autonomous)
REFRESH-INTERVAL;VALUE=DURATION:PT1H
X-Robots-Tag:noindex
X-PUBLISHED-TTL:PT1H
BEGIN:VTIMEZONE
TZID:Indian/Reunion
BEGIN:STANDARD
TZOFFSETFROM:+0400
TZOFFSETTO:+0400
TZNAME:+04
DTSTART:20250101T000000
END:STANDARD
END:VTIMEZONE
BEGIN:VEVENT
DTSTART;TZID=Indian/Reunion:20260114T120000
DTEND;TZID=Indian/Reunion:20260114T170000
DTSTAMP:20260426T052007
CREATED:20260114T044717Z
LAST-MODIFIED:20260114T045225Z
UID:20449-1768392000-1768410000@loyolacollegekerala.edu.in
SUMMARY:Academic Collaboration Interface
DESCRIPTION:Resource Persons: \n\nDr. Philip G. Laird\nSenior Vice President -Global Engagement\,\nPublic Relations & Innovation.\nTrinity Western University\, Canada\nMs. Sobhana Jaya-Madhavan\nCo-President of the British Columbia-India Business Network\n\nLocation: Loyola College of Social Sciences (Autonomous)\, Thiruvananthapuram. \n \n 
URL:https://loyolacollegekerala.edu.in/event/academic-collaboration-interface/
END:VEVENT
BEGIN:VEVENT
DTSTART;TZID=Indian/Reunion:20260114T150000
DTEND;TZID=Indian/Reunion:20260114T170000
DTSTAMP:20260426T052007
CREATED:20260114T050513Z
LAST-MODIFIED:20260114T050520Z
UID:20452-1768402800-1768410000@loyolacollegekerala.edu.in
SUMMARY:Academic Collaboration Interface
DESCRIPTION:Resource Person: Mr. Dinesh P. Thampi & TCS Team \nTata Consultancy Services\, Vice President & Delivery Centre Head – Kerala) \nLocation: Principal’s Office\, Loyola College of Social Sciences (Thiruvanathapuram) \n \n  \n 
URL:https://loyolacollegekerala.edu.in/event/academic-collaboration-interface-2/
END:VEVENT
END:VCALENDAR