BEGIN:VCALENDAR
VERSION:2.0
PRODID:-//Loyola College Of Social Science (Autonomous) - ECPv6.15.9//NONSGML v1.0//EN
CALSCALE:GREGORIAN
METHOD:PUBLISH
X-ORIGINAL-URL:https://loyolacollegekerala.edu.in
X-WR-CALDESC:Events for Loyola College Of Social Science (Autonomous)
REFRESH-INTERVAL;VALUE=DURATION:PT1H
X-Robots-Tag:noindex
X-PUBLISHED-TTL:PT1H
BEGIN:VTIMEZONE
TZID:Indian/Reunion
BEGIN:STANDARD
TZOFFSETFROM:+0400
TZOFFSETTO:+0400
TZNAME:+04
DTSTART:20250101T000000
END:STANDARD
END:VTIMEZONE
BEGIN:VEVENT
DTSTART;TZID=Indian/Reunion:20260115T203000
DTEND;TZID=Indian/Reunion:20260115T213000
DTSTAMP:20260426T053402
CREATED:20260114T111725Z
LAST-MODIFIED:20260114T111958Z
UID:20533-1768509000-1768512600@loyolacollegekerala.edu.in
SUMMARY:Higher Education Reforms- Opportunities for Learners
DESCRIPTION:For Parents\, Plus One & Plus two students \nResource Person: Dr Simon Thattil\nAcademic Director\, Loyola College of Social Sciences.\nFormer Dean\, University of Kerala\nFormer IQAC Director\, University of Kerala. \nMode: Online- Zoom \n \n  \n 
URL:https://loyolacollegekerala.edu.in/event/higher-education-reforms-opportunities-for-learners/
END:VEVENT
END:VCALENDAR