BEGIN:VCALENDAR
VERSION:2.0
PRODID:-//Loyola College Of Social Science (Autonomous) - ECPv6.15.9//NONSGML v1.0//EN
CALSCALE:GREGORIAN
METHOD:PUBLISH
X-ORIGINAL-URL:https://loyolacollegekerala.edu.in
X-WR-CALDESC:Events for Loyola College Of Social Science (Autonomous)
REFRESH-INTERVAL;VALUE=DURATION:PT1H
X-Robots-Tag:noindex
X-PUBLISHED-TTL:PT1H
BEGIN:VTIMEZONE
TZID:Indian/Reunion
BEGIN:STANDARD
TZOFFSETFROM:+0400
TZOFFSETTO:+0400
TZNAME:+04
DTSTART:20250101T000000
END:STANDARD
END:VTIMEZONE
BEGIN:VEVENT
DTSTART;TZID=Indian/Reunion:20260117T080000
DTEND;TZID=Indian/Reunion:20260123T170000
DTSTAMP:20260426T052343
CREATED:20260117T064026Z
LAST-MODIFIED:20260117T064159Z
UID:20547-1768636800-1769187600@loyolacollegekerala.edu.in
SUMMARY:Constitutional & Democratic Initiatives For Social transformation (CODE)
DESCRIPTION:7 Days Residential Training Program.\nLocation Sutter Hall \nContact Information:\nSindhura S Alappad +91 98462 00143
URL:https://loyolacollegekerala.edu.in/event/constitutional-democratic-initiatives-for-social-transformation-code/
END:VEVENT
BEGIN:VEVENT
DTSTART;TZID=Indian/Reunion:20260122T093000
DTEND;TZID=Indian/Reunion:20260122T133000
DTSTAMP:20260426T052343
CREATED:20260121T111848Z
LAST-MODIFIED:20260121T111848Z
UID:20594-1769074200-1769088600@loyolacollegekerala.edu.in
SUMMARY:Group Dynamics II
DESCRIPTION:Group Dynamics II with Mr. Brahmanayakam \nFor the students of the departments of BCom F&A\, BSC Psychology and BSC Data Science.
URL:https://loyolacollegekerala.edu.in/event/group-dynamics-ii/
END:VEVENT
BEGIN:VEVENT
DTSTART;TZID=Indian/Reunion:20260122T093000
DTEND;TZID=Indian/Reunion:20260122T153000
DTSTAMP:20260426T052343
CREATED:20260120T061713Z
LAST-MODIFIED:20260120T062759Z
UID:20571-1769074200-1769095800@loyolacollegekerala.edu.in
SUMMARY:Education for Peace: Reimagining Higher Education
DESCRIPTION:Organizer: Loyola College of Social Sciences (Autonomous)\, Sreekariyam & St.Xaviers’s College\, Thumba \nIn collaboration with  \nLoyola Institute of Peace and International Relations (LIPI)\, Kochi. \nLocation: JM Hall\, Loyola College of Social Sciences (Autonomous)\, Sreekariyam\, Thiruvananthapuram. \n  \n \n 
URL:https://loyolacollegekerala.edu.in/event/education-for-peace-reimagining-higher-education/
END:VEVENT
END:VCALENDAR