BEGIN:VCALENDAR
VERSION:2.0
PRODID:-//Loyola College Of Social Science (Autonomous) - ECPv6.15.9//NONSGML v1.0//EN
CALSCALE:GREGORIAN
METHOD:PUBLISH
X-ORIGINAL-URL:https://loyolacollegekerala.edu.in
X-WR-CALDESC:Events for Loyola College Of Social Science (Autonomous)
REFRESH-INTERVAL;VALUE=DURATION:PT1H
X-Robots-Tag:noindex
X-PUBLISHED-TTL:PT1H
BEGIN:VTIMEZONE
TZID:Indian/Reunion
BEGIN:STANDARD
TZOFFSETFROM:+0400
TZOFFSETTO:+0400
TZNAME:+04
DTSTART:20250101T000000
END:STANDARD
END:VTIMEZONE
BEGIN:VEVENT
DTSTART;TZID=Indian/Reunion:20260131T150000
DTEND;TZID=Indian/Reunion:20260131T170000
DTSTAMP:20260426T035206
CREATED:20260131T073411Z
LAST-MODIFIED:20260131T073744Z
UID:20946-1769871600-1769878800@loyolacollegekerala.edu.in
SUMMARY:Awareness Session on Understanding Palliative Care
DESCRIPTION:Organizer: Pallium India in Collaboration with Department of MSW Disaster Management. \nVenue: St.Thomas New Building\, Near St Thomas Church Poonthura.
URL:https://loyolacollegekerala.edu.in/event/awareness-session-on-understanding-palliative-care/
END:VEVENT
END:VCALENDAR