BEGIN:VCALENDAR
VERSION:2.0
PRODID:-//Loyola College Of Social Science (Autonomous) - ECPv6.15.9//NONSGML v1.0//EN
CALSCALE:GREGORIAN
METHOD:PUBLISH
X-WR-CALNAME:Loyola College Of Social Science (Autonomous)
X-ORIGINAL-URL:https://loyolacollegekerala.edu.in
X-WR-CALDESC:Events for Loyola College Of Social Science (Autonomous)
REFRESH-INTERVAL;VALUE=DURATION:PT1H
X-Robots-Tag:noindex
X-PUBLISHED-TTL:PT1H
BEGIN:VTIMEZONE
TZID:Europe/Moscow
BEGIN:STANDARD
TZOFFSETFROM:+0300
TZOFFSETTO:+0300
TZNAME:MSK
DTSTART:20250101T000000
END:STANDARD
END:VTIMEZONE
BEGIN:VEVENT
DTSTART;TZID=Europe/Moscow:20260202T080000
DTEND;TZID=Europe/Moscow:20260207T170000
DTSTAMP:20260426T034909
CREATED:20260203T090542Z
LAST-MODIFIED:20260203T090542Z
UID:21001-1770019200-1770483600@loyolacollegekerala.edu.in
SUMMARY:Participatory Disaster Risk Assessment
DESCRIPTION:Participatory Disaster Risk Assessment at Karumkulam Grama Panchayat. \nMSW DM Batch 2025-27. \nCamp Site: Loyola Institute of Commerce\, Poovar. \n  \n \n  \n 
URL:https://loyolacollegekerala.edu.in/event/participatory-disaster-risk-assessment/
END:VEVENT
BEGIN:VEVENT
DTSTART;TZID=Europe/Moscow:20260203T080000
DTEND;TZID=Europe/Moscow:20260212T170000
DTSTAMP:20260426T034909
CREATED:20260203T091243Z
LAST-MODIFIED:20260203T091828Z
UID:21004-1770105600-1770915600@loyolacollegekerala.edu.in
SUMMARY:മലബാർ to मराठा  Study Tour
DESCRIPTION:മലബാർ to मराठा Study Tour \nOrganizer: Department of Social Work\, Loyola College of Social Sciences(Autonomous)\, Thiruvanathapuram. \n \n 
URL:https://loyolacollegekerala.edu.in/event/%e0%b4%ae%e0%b4%b2%e0%b4%ac%e0%b4%be%e0%b5%bc-to-%e0%a4%ae%e0%a4%b0%e0%a4%be%e0%a4%a0%e0%a4%be-study-tour/
END:VEVENT
BEGIN:VEVENT
DTSTART;TZID=Europe/Moscow:20260204T140000
DTEND;TZID=Europe/Moscow:20260204T170000
DTSTAMP:20260426T034909
CREATED:20260204T045814Z
LAST-MODIFIED:20260204T045922Z
UID:21028-1770213600-1770224400@loyolacollegekerala.edu.in
SUMMARY:Start-up Orientation Programme
DESCRIPTION:Speaker : Dr.Sreejith B J
URL:https://loyolacollegekerala.edu.in/event/start-up-orientation-programme/
END:VEVENT
BEGIN:VEVENT
DTSTART;TZID=Europe/Moscow:20260204T190000
DTEND;TZID=Europe/Moscow:20260204T210000
DTSTAMP:20260426T034909
CREATED:20260204T045133Z
LAST-MODIFIED:20260204T050037Z
UID:21023-1770231600-1770238800@loyolacollegekerala.edu.in
SUMMARY:FDP: Orientation to Aspire Leadership Programme
DESCRIPTION:Ms. Sreelatha Krishnam\, Director\, School of Policy and Governance\, Bangalore. \nModerator: Prof. Gabriel Simon Thattil. \n  \n \n  \nFDP – Expert Lecture(PDF)
URL:https://loyolacollegekerala.edu.in/event/fdp-orientation-to-aspire-leadership-programme/
END:VEVENT
END:VCALENDAR