BEGIN:VCALENDAR
VERSION:2.0
PRODID:-//Loyola College Of Social Science (Autonomous) - ECPv6.15.9//NONSGML v1.0//EN
CALSCALE:GREGORIAN
METHOD:PUBLISH
X-ORIGINAL-URL:https://loyolacollegekerala.edu.in
X-WR-CALDESC:Events for Loyola College Of Social Science (Autonomous)
REFRESH-INTERVAL;VALUE=DURATION:PT1H
X-Robots-Tag:noindex
X-PUBLISHED-TTL:PT1H
BEGIN:VTIMEZONE
TZID:Europe/Moscow
BEGIN:STANDARD
TZOFFSETFROM:+0300
TZOFFSETTO:+0300
TZNAME:MSK
DTSTART:20250101T000000
END:STANDARD
END:VTIMEZONE
BEGIN:VEVENT
DTSTART;TZID=Europe/Moscow:20260214T100000
DTEND;TZID=Europe/Moscow:20260214T143000
DTSTAMP:20260426T035227
CREATED:20260214T032156Z
LAST-MODIFIED:20260214T032316Z
UID:21199-1771063200-1771079400@loyolacollegekerala.edu.in
SUMMARY:PTA Meeting -PG Section
DESCRIPTION:
URL:https://loyolacollegekerala.edu.in/event/pta-meeting-pg/
END:VEVENT
END:VCALENDAR