BEGIN:VCALENDAR
VERSION:2.0
PRODID:-//Loyola College Of Social Science (Autonomous) - ECPv6.15.9//NONSGML v1.0//EN
CALSCALE:GREGORIAN
METHOD:PUBLISH
X-WR-CALNAME:Loyola College Of Social Science (Autonomous)
X-ORIGINAL-URL:https://loyolacollegekerala.edu.in
X-WR-CALDESC:Events for Loyola College Of Social Science (Autonomous)
REFRESH-INTERVAL;VALUE=DURATION:PT1H
X-Robots-Tag:noindex
X-PUBLISHED-TTL:PT1H
BEGIN:VTIMEZONE
TZID:Europe/Moscow
BEGIN:STANDARD
TZOFFSETFROM:+0300
TZOFFSETTO:+0300
TZNAME:MSK
DTSTART:20250101T000000
END:STANDARD
END:VTIMEZONE
BEGIN:VEVENT
DTSTART;TZID=Europe/Moscow:20260216T110000
DTEND;TZID=Europe/Moscow:20260216T130000
DTSTAMP:20260426T035049
CREATED:20260205T040703Z
LAST-MODIFIED:20260205T041750Z
UID:21087-1771239600-1771246800@loyolacollegekerala.edu.in
SUMMARY:Prof Jacob John Kattakayam Fifith Memorial Lecture
DESCRIPTION:Institute For Social Research and Action (ISRA) & Prof. J.J.K. Students’ Collective  \nCordially invite you to the Fifth Memorial Lecture \nAfter Massification: The Democratization of Discontent in Indian Higher Education \nHosted by Department of Sociology\, Loyola College of Social Sciences(Autonomous)
URL:https://loyolacollegekerala.edu.in/event/prof-jacob-john-kattakayam-fifith-memorial-lecture/
END:VEVENT
BEGIN:VEVENT
DTSTART;TZID=Europe/Moscow:20260216T130000
DTEND;TZID=Europe/Moscow:20260216T160000
DTSTAMP:20260426T035049
CREATED:20260216T083650Z
LAST-MODIFIED:20260216T083858Z
UID:21244-1771246800-1771257600@loyolacollegekerala.edu.in
SUMMARY:Urban Planning and Sustainable Development
DESCRIPTION:Organizer: Department of Personnel Management \nMovie Screening: WALL-E
URL:https://loyolacollegekerala.edu.in/event/urban-planning-and-sustainable-development/
END:VEVENT
END:VCALENDAR