BEGIN:VCALENDAR
VERSION:2.0
PRODID:-//Loyola College Of Social Science (Autonomous) - ECPv6.15.9//NONSGML v1.0//EN
CALSCALE:GREGORIAN
METHOD:PUBLISH
X-WR-CALNAME:Loyola College Of Social Science (Autonomous)
X-ORIGINAL-URL:https://loyolacollegekerala.edu.in
X-WR-CALDESC:Events for Loyola College Of Social Science (Autonomous)
REFRESH-INTERVAL;VALUE=DURATION:PT1H
X-Robots-Tag:noindex
X-PUBLISHED-TTL:PT1H
BEGIN:VTIMEZONE
TZID:Europe/Moscow
BEGIN:STANDARD
TZOFFSETFROM:+0300
TZOFFSETTO:+0300
TZNAME:MSK
DTSTART:20250101T000000
END:STANDARD
END:VTIMEZONE
BEGIN:VEVENT
DTSTART;TZID=Europe/Moscow:20260203T080000
DTEND;TZID=Europe/Moscow:20260212T170000
DTSTAMP:20260426T053841
CREATED:20260203T091243Z
LAST-MODIFIED:20260203T091828Z
UID:21004-1770105600-1770915600@loyolacollegekerala.edu.in
SUMMARY:മലബാർ to मराठा  Study Tour
DESCRIPTION:മലബാർ to मराठा Study Tour \nOrganizer: Department of Social Work\, Loyola College of Social Sciences(Autonomous)\, Thiruvanathapuram. \n \n 
URL:https://loyolacollegekerala.edu.in/event/%e0%b4%ae%e0%b4%b2%e0%b4%ac%e0%b4%be%e0%b5%bc-to-%e0%a4%ae%e0%a4%b0%e0%a4%be%e0%a4%a0%e0%a4%be-study-tour/
END:VEVENT
BEGIN:VEVENT
DTSTART;TZID=Europe/Moscow:20260211T090000
DTEND;TZID=Europe/Moscow:20260211T170000
DTSTAMP:20260426T053841
CREATED:20260210T102216Z
LAST-MODIFIED:20260211T041644Z
UID:21188-1770800400-1770829200@loyolacollegekerala.edu.in
SUMMARY:National Productivity Day
DESCRIPTION:Theme for this Year \nClusters as Growth Engine: Maximizing Productivity in MSMES \nWe are excited to invite you to our upcoming Event: 11.02.2026 | 09AM-05PM \nRegistration Link:\nLoyola College of Social Sciences ( Productivity Day Celebration) https://share.google/R5PWdQmPYKFuDW6YF \n  \nLoyola College Productivity Day 11Feb (PDF)
URL:https://loyolacollegekerala.edu.in/event/national-productivity-day/
END:VEVENT
BEGIN:VEVENT
DTSTART;TZID=Europe/Moscow:20260214T100000
DTEND;TZID=Europe/Moscow:20260214T143000
DTSTAMP:20260426T053841
CREATED:20260214T032156Z
LAST-MODIFIED:20260214T032316Z
UID:21199-1771063200-1771079400@loyolacollegekerala.edu.in
SUMMARY:PTA Meeting -PG Section
DESCRIPTION:
URL:https://loyolacollegekerala.edu.in/event/pta-meeting-pg/
END:VEVENT
BEGIN:VEVENT
DTSTART;TZID=Europe/Moscow:20260216T110000
DTEND;TZID=Europe/Moscow:20260216T130000
DTSTAMP:20260426T053841
CREATED:20260205T040703Z
LAST-MODIFIED:20260205T041750Z
UID:21087-1771239600-1771246800@loyolacollegekerala.edu.in
SUMMARY:Prof Jacob John Kattakayam Fifith Memorial Lecture
DESCRIPTION:Institute For Social Research and Action (ISRA) & Prof. J.J.K. Students’ Collective  \nCordially invite you to the Fifth Memorial Lecture \nAfter Massification: The Democratization of Discontent in Indian Higher Education \nHosted by Department of Sociology\, Loyola College of Social Sciences(Autonomous)
URL:https://loyolacollegekerala.edu.in/event/prof-jacob-john-kattakayam-fifith-memorial-lecture/
END:VEVENT
BEGIN:VEVENT
DTSTART;TZID=Europe/Moscow:20260216T130000
DTEND;TZID=Europe/Moscow:20260216T160000
DTSTAMP:20260426T053841
CREATED:20260216T083650Z
LAST-MODIFIED:20260216T083858Z
UID:21244-1771246800-1771257600@loyolacollegekerala.edu.in
SUMMARY:Urban Planning and Sustainable Development
DESCRIPTION:Organizer: Department of Personnel Management \nMovie Screening: WALL-E
URL:https://loyolacollegekerala.edu.in/event/urban-planning-and-sustainable-development/
END:VEVENT
BEGIN:VEVENT
DTSTART;TZID=Europe/Moscow:20260218T110000
DTEND;TZID=Europe/Moscow:20260218T170000
DTSTAMP:20260426T053841
CREATED:20260218T051102Z
LAST-MODIFIED:20260218T051148Z
UID:21257-1771412400-1771434000@loyolacollegekerala.edu.in
SUMMARY:ഉപ്പ് Topia Food Fest
DESCRIPTION:Organized by Department of Sociology \nLoyola Association of Sociological Imagination and Engagement[LASIE] \n \n  \n 
URL:https://loyolacollegekerala.edu.in/event/%e0%b4%89%e0%b4%aa%e0%b5%8d%e0%b4%aa%e0%b5%8d-topia-food-fest/
END:VEVENT
BEGIN:VEVENT
DTSTART;TZID=Europe/Moscow:20260221T150000
DTEND;TZID=Europe/Moscow:20260221T173000
DTSTAMP:20260426T053841
CREATED:20260220T104123Z
LAST-MODIFIED:20260221T075214Z
UID:21301-1771686000-1771695000@loyolacollegekerala.edu.in
SUMMARY:A Panel session on Where is Kerala Heading
DESCRIPTION:A Panel session on Where is Kerala Heading \nIs kerala in need of ‘Deschooling’ \non the occasion of the UN International Mother Tongue Day 21 February 2026 \nLocation : Loyola Extension Services(LES)\, Loyola College of Social Sciences(A)\, Sreekaryam\, Thiruvanathapuram. \nOrganizer : Dialogical Democracy Initiative(DDI) & Constitutional and Democratic Engagements for Social Transformation(CODE) \nResource Persons: \nJyothi Rudhika Vijayakumar\, Civil Services Trainer \nC R Neelakandan\, Writer and Eco-Social Activist \nK P Prakashan\, Editor & Social Activist Moderator \nKarthik Sasi\, Politician \nDr. Abey George\, Director\, CODE Rappoteur \n  \n 
URL:https://loyolacollegekerala.edu.in/event/a-panel-session-on-where-is-kerala-heading/
END:VEVENT
BEGIN:VEVENT
DTSTART;TZID=Europe/Moscow:20260305T090000
DTEND;TZID=Europe/Moscow:20260305T120000
DTSTAMP:20260426T053841
CREATED:20260305T042646Z
LAST-MODIFIED:20260305T044951Z
UID:21676-1772701200-1772712000@loyolacollegekerala.edu.in
SUMMARY:Session on Quantitative Analysis Using SPSS Software
DESCRIPTION:Resource Person: Dr. Anjali U S\, Guest Faculty\, MSW-Disaster Management. \nLocation: Lecture Hall 9\, Loyola College of Social Sciences(Autonomous)\, Thiruvanathapuram. \nOrganizer: Department of Social Work \n \n 
URL:https://loyolacollegekerala.edu.in/event/session-on-quantitative-analysis-using-spss-software/
END:VEVENT
BEGIN:VEVENT
DTSTART;TZID=Europe/Moscow:20260305T130000
DTEND;TZID=Europe/Moscow:20260305T150000
DTSTAMP:20260426T053841
CREATED:20260305T043638Z
LAST-MODIFIED:20260305T044707Z
UID:21680-1772715600-1772722800@loyolacollegekerala.edu.in
SUMMARY:Workshop on Qualitative Data Analysis
DESCRIPTION:Resource Person: Dr. Jasmine Sarah Alexander\, Assistant Professor\, Department of Social Work. \nLocation: Lecture Hall 9\, Loyola College of Social Sciences (Autonomous)\, Thiruvanathapuram. \nTime: 1PM- 3PM
URL:https://loyolacollegekerala.edu.in/event/workshop-on-qualitative-data-analysis/
END:VEVENT
BEGIN:VEVENT
DTSTART;TZID=Europe/Moscow:20260310T150000
DTEND;TZID=Europe/Moscow:20260310T160000
DTSTAMP:20260426T053841
CREATED:20260309T152348Z
LAST-MODIFIED:20260309T152425Z
UID:21976-1773154800-1773158400@loyolacollegekerala.edu.in
SUMMARY:From Awareness to Action: Women and the Law
DESCRIPTION:Resource Person: Adv. J Sandhya\, Social Activist\, former member of the Kerala state Commission for Protection of Child Rights. \nOrganizer: Women’s Cell in Collaboration with KSWDC (Kerala State Women’s Developement Corporation)
URL:https://loyolacollegekerala.edu.in/event/from-awareness-to-action-women-and-the-law/
END:VEVENT
BEGIN:VEVENT
DTSTART;TZID=Europe/Moscow:20260327T140000
DTEND;TZID=Europe/Moscow:20260327T170000
DTSTAMP:20260426T053841
CREATED:20260326T102406Z
LAST-MODIFIED:20260326T102500Z
UID:25420-1774620000-1774630800@loyolacollegekerala.edu.in
SUMMARY:62nd College Day celebrations
DESCRIPTION:Sahasra – A thousand Moments of Joy \nYou are cordially invited \nChief Guest \nMr. Sankar Ramakrishnan \nActor\, Filimmaker & Creative Director of E.K Nayanar Memorial Museum \n \n \n 
URL:https://loyolacollegekerala.edu.in/event/62nd-college-day-celebrations/
END:VEVENT
BEGIN:VEVENT
DTSTART;TZID=Europe/Moscow:20260429T080000
DTEND;TZID=Europe/Moscow:20260502T170000
DTSTAMP:20260426T053841
CREATED:20260218T052716Z
LAST-MODIFIED:20260218T052720Z
UID:21262-1777449600-1777741200@loyolacollegekerala.edu.in
SUMMARY:CBT for Anxiety & OCD (With ERP)
DESCRIPTION:International Certification Program CBT for Anxiety & OCD (With ERP) \nVenue: Loyola College of Social Sciences(Autonomous)\, Trivandrum.(Residential Program) \nInternational Resource Persons: \nKimberly Morrow\, LCSW \nElizabeth Dupont Spencer\, LCSW-C \nPre-Registration & Enquiries Contact: Shal Soman. Phone: +91 9645277957 \nOrganizer: Loyola Counselling and Psychology Services(Loyola CAPS)\, Loyola Extension Services(LES)\, Loyola College of Social Sciences(Autonomous)\, Sreekariyam\, Thiruvanathapuram.
URL:https://loyolacollegekerala.edu.in/event/cbt-for-anxiety-ocd-with-erp/
END:VEVENT
END:VCALENDAR