BEGIN:VCALENDAR
VERSION:2.0
PRODID:-//Loyola College Of Social Science (Autonomous) - ECPv6.15.9//NONSGML v1.0//EN
CALSCALE:GREGORIAN
METHOD:PUBLISH
X-ORIGINAL-URL:https://loyolacollegekerala.edu.in
X-WR-CALDESC:Events for Loyola College Of Social Science (Autonomous)
REFRESH-INTERVAL;VALUE=DURATION:PT1H
X-Robots-Tag:noindex
X-PUBLISHED-TTL:PT1H
BEGIN:VTIMEZONE
TZID:Indian/Reunion
BEGIN:STANDARD
TZOFFSETFROM:+0400
TZOFFSETTO:+0400
TZNAME:+04
DTSTART:20240101T000000
END:STANDARD
END:VTIMEZONE
BEGIN:VEVENT
DTSTART;TZID=Indian/Reunion:20251201T100000
DTEND;TZID=Indian/Reunion:20251201T120000
DTSTAMP:20260426T053453
CREATED:20251129T071901Z
LAST-MODIFIED:20251129T090402Z
UID:19899-1764583200-1764590400@loyolacollegekerala.edu.in
SUMMARY:Labour Code 360: Understanding the New Workplace Framework
DESCRIPTION:Organised by  Department of Personnel Management. \nLabour Code 360: Understanding the New Workplace Framework \nVenue : JM Hall\, Loyola college of Social Science\, Sreekariyam\, Thiruvananthapuram. \nResource Person : Adv. Anil Narayan\, Labour Law Consultant\, Chairman\, ILM
URL:https://loyolacollegekerala.edu.in/event/labour-code-360-understanding-the-new-workplace-framework/
END:VEVENT
BEGIN:VEVENT
DTSTART;TZID=Indian/Reunion:20251202T090000
DTEND;TZID=Indian/Reunion:20251202T220000
DTSTAMP:20260426T053453
CREATED:20251202T072324Z
LAST-MODIFIED:20251202T072738Z
UID:19956-1764666000-1764712800@loyolacollegekerala.edu.in
SUMMARY:Online Parenting Seminar : "Topic Building Secure Bonds: Parenting insights from Attachment Theory"
DESCRIPTION:Loyola Counseling and Psychological Services (Loyola CAPS) Home – Loyola CAPS\npresents \nOnline Parenting Seminar \nTopic: Building Secure Bonds: Parenting Insights from Attachment Theory\nDate: December 2\, 2025\nTime: 9:00 PM – 10:00 \nResource Person: Shal Soman\, Family Counselor\nLoyola CAPS. \nLoyola Extension Services (LES)\nLoyola College of Social Sciences (Autonomous)\nSreekariyam\, Trivandrum \nPlease click the link below to join the meeting.\nhttps://us06web.zoom.us/j/89061378201 \n  \n 
URL:https://loyolacollegekerala.edu.in/event/online-parenting-seminar-topic-building-secure-bonds-parenting-insights-from-attachment-theory/
END:VEVENT
BEGIN:VEVENT
DTSTART;TZID=Indian/Reunion:20251202T093000
DTEND;TZID=Indian/Reunion:20251202T160000
DTSTAMP:20260426T053453
CREATED:20251202T051635Z
LAST-MODIFIED:20251202T071218Z
UID:19921-1764667800-1764691200@loyolacollegekerala.edu.in
SUMMARY:Councelling on Campus
DESCRIPTION:Counselling on Campus \nTuesdays\, Wednesdays & Fridays\, 9.30AM – 4PM \nLocated @ Student Councellor\, Second Floor – PG Block \nOrgnaisers:  Loyola CAPS\, Loyola Extension Services . Home – Loyola CAPS \n \n  \n 
URL:https://loyolacollegekerala.edu.in/event/councelling-on-campus/
END:VEVENT
BEGIN:VEVENT
DTSTART;TZID=Indian/Reunion:20251205T093000
DTEND;TZID=Indian/Reunion:20251205T160000
DTSTAMP:20260426T053453
CREATED:20251205T052003Z
LAST-MODIFIED:20251205T052020Z
UID:19999-1764927000-1764950400@loyolacollegekerala.edu.in
SUMMARY:Councelling on Campus
DESCRIPTION:Counselling on Campus \nFridays\, 9.30AM – 4PM \nMs. Nigee S \nLocated @ Student Councellor\, Second Floor – PG Block \nOrgnaisers:  Loyola CAPS\, Loyola Extension Services . Home – Loyola CAPS \n 
URL:https://loyolacollegekerala.edu.in/event/councelling-on-campus-2/
END:VEVENT
BEGIN:VEVENT
DTSTART;TZID=Indian/Reunion:20251210T150000
DTEND;TZID=Indian/Reunion:20251210T163000
DTSTAMP:20260426T053453
CREATED:20251210T105154Z
LAST-MODIFIED:20251210T120825Z
UID:20009-1765378800-1765384200@loyolacollegekerala.edu.in
SUMMARY:EKATVA Skill training and Mental Health Project
DESCRIPTION:Awareness Session on Breaking Barriers: Public Awareness and Transgender Inclusion. \nRP: Sreemayi S L \nTransgender Activist. \n  \nOrganised by NADI Foundation and Loyola College student Union. \n  \n \n 
URL:https://loyolacollegekerala.edu.in/event/ekatva-skill-training-and-mental-health-project/
END:VEVENT
BEGIN:VEVENT
DTSTART;TZID=Indian/Reunion:20251211T090000
DTEND;TZID=Indian/Reunion:20251214T170000
DTSTAMP:20260426T053453
CREATED:20251211T103257Z
LAST-MODIFIED:20251212T052856Z
UID:20030-1765443600-1765731600@loyolacollegekerala.edu.in
SUMMARY:Democracy and Eco-Socially Engaged Spirituality
DESCRIPTION:“To practice one’s faith and strengthen one’s spirituality\, we need to take a journey that cultivates a vibrant democratic ethos and embrace a dialogical democratic way of life” \n  \nLocation : Loyola College\, Sreekariyam\, Thiruvananthapuram. \n \nDownload pdf: DDI-DemocraticEthos-F1
URL:https://loyolacollegekerala.edu.in/event/democracy-and-eco-socially-engaged-spirituality/
END:VEVENT
BEGIN:VEVENT
DTSTART;TZID=Indian/Reunion:20251211T093000
DTEND;TZID=Indian/Reunion:20251213T170000
DTSTAMP:20260426T053453
CREATED:20251212T053304Z
LAST-MODIFIED:20251212T081815Z
UID:20038-1765445400-1765645200@loyolacollegekerala.edu.in
SUMMARY:CBT in Action Three Day Workshop
DESCRIPTION:CBT in Action Three Day Workshop \nDates : December 11\,12\, & 13 Time : 9:30AM -4:30PM \nVenue : Loyola College\, Sreekariyam\, Thiruvanathapurm. \n 
URL:https://loyolacollegekerala.edu.in/event/cbt-in-action-three-day-workshop/
END:VEVENT
BEGIN:VEVENT
DTSTART;TZID=Indian/Reunion:20251212T140000
DTEND;TZID=Indian/Reunion:20251212T170000
DTSTAMP:20260426T053453
CREATED:20251212T055956Z
LAST-MODIFIED:20251212T070033Z
UID:20044-1765548000-1765558800@loyolacollegekerala.edu.in
SUMMARY:2025-26 Loyola College Union and Arts Club Inauguration
DESCRIPTION:Chief Guest : Mr Anu S Nair IAS \nVenue : Education Theatre\, Loyola College of Social Sciences (Autonomous)
URL:https://loyolacollegekerala.edu.in/event/2025-26-loyola-college-union-and-arts-club-inauguration/
END:VEVENT
BEGIN:VEVENT
DTSTART;TZID=Indian/Reunion:20251217T110000
DTEND;TZID=Indian/Reunion:20251217T133000
DTSTAMP:20260426T053453
CREATED:20251211T090904Z
LAST-MODIFIED:20251212T113410Z
UID:20028-1765969200-1765978200@loyolacollegekerala.edu.in
SUMMARY:RTI YOUTH CONCLAVE 2025
DESCRIPTION:  \nജനാധിപത്യ ഇന്ത്യയിൽ ഭരണ സുതാര്യത ഉറപ്പാക്കുന്നതിനും അഴിമതി രഹിതമായ ഭരണ വികസന പ്രവർത്തനങ്ങൾ നടപ്പിലാക്കുന്നതിനും വലിയതോതിൽ സഹായിക്കുന്ന ഒരു കേന്ദ്ര നിയമമാണ് വിവരാവകാശ നിയമം ‘ . ഈ നിയമത്തിന്റെ ഏറ്റവും ഫലപ്രദമായനടപ്പാക്കുന്നതിലൂടെ കൂടുതൽ സുതാര്യവും ഫലപ്രദവുമായ ഭരണസംവിധാനം ഉറപ്പാക്കാൻ കഴിയും. അതുകൊണ്ടുതന്നെ ഈ നിയമത്തിന് അതിൻറെ അക്ഷരാർത്ഥത്തിൽ തന്നെ നടപ്പിലാക്കുന്നതിന് പൊതുജനങ്ങളുടെ ഇടയിൽ വലിയ തോതിലുള്ള അവബോധം ഉണ്ടാക്കിയെടുക്കേണ്ടതുണ്ട്. ഇക്കാര്യത്തിൽ നമ്മുടെ യുവജനങ്ങൾക്ക് വലിയ പങ്കുവയ്ക്കാൻ ഉണ്ട്. \nഈയൊരു സാഹചര്യത്തിലാണ് യുവജനങ്ങളെ പങ്കെടുപ്പിച്ചുകൊണ്ട് ഒരു RTI YOUTH CONCLAVE\, 17-12-2025 സംഘടിപ്പിക്കുവാൻ ദേശീയ വിവരാവകാശ കൂട്ടായ്മ തീരുമാനിച്ചിരിക്കുന്നത്. തിരുവനന്തപുരത്തുള്ള ലയോള കോളേജിന്റെയും ലയോള എക്സ്റ്റൻഷൻ സർവീസിന്‍റെയുംസംയുക്ത ആഭിമുഖ്യത്തിൽ സംഘടിപ്പിക്കുന്ന ഈ പരിപാടി 17 12 2025 രാവിലെ 11 മണിക്ക് ശ്രീമതി അരുണ റോയ് ഉദ്ഘാടനം ചെയ്യുന്നതാണ്. IAS പദവി വേണ്ടെന്നുവെച്ച് കർഷകരെയും തൊഴിലാളികളെയും സംഘടിപ്പിക്കുന്ന പ്രവർത്തനത്തിൽ ഏർപ്പെട്ട ശ്രീമതി അരുണാ റോയ് മാഗ്സസേ അവാർഡ് ജേതാവ് കൂടിയാണ് . വിവരാവകാശ നിയമം കൊണ്ടുവരുന്നതിനുള്ള ജനകീയ മുന്നേറ്റത്തിന് നേതൃത്വം നൽകിയ ശ്രീമതി അരുണ റോയിക്കൊപ്പം അന്നുമുതൽ പ്രവർത്തിച്ചുവരുന്ന ശ്രീ നിഖിൽ ദേ യും ഈ ഉദ്ഘാടന യോഗത്തിൽ പങ്കെടുത്ത സംസാരിക്കുന്നതാണ്. \nഈ RTI YOUTH CONCLAVE തുടർ പ്രവർത്തനങ്ങൾ കേരളത്തിലെ മറ്റ് ക്യാമ്പസുകളിലും യൂത്ത് ക്ലബ്ബുകളുടെയും മുൻകൈയിൽ നടത്തുന്നതായിരിക്കും \nRTI YOUTH CONCLAVE 2025 പ്രോഗ്രാമിലേക്ക് നിങ്ങളുടെ വിദ്യാഭ്യാസ സ്ഥാപനത്തെ പ്രതിനിധീകരിച്ച് വിദ്യാർത്ഥികളെയും അധ്യാപകരെയും പങ്കെടുപ്പിക്കണമെന്ന് താല്പര്യപ്പെടുന്നു. \nതാൽപര്യമുള്ളവർ താഴെക്കൊടുത്തിരിക്കുന്ന Link വഴി രജിസ്ട്രേഷൻ സമർപ്പിക്കാവുന്നതാണ്. \nലിങ്ക്: https://forms.gle/BEAajyyLo7uEkocG8 \nവിശ്വസ്തതയോടെ \nപ്രിൻസിപ്പൽ \, ലയോള കോളജ് ഓഫ് സോഷ്യൽ സയൻസസ് \nശ്രീകാര്യം \, തിരുവനതപുരം
URL:https://loyolacollegekerala.edu.in/event/rti-youth-conclave-2025/
END:VEVENT
BEGIN:VEVENT
DTSTART;TZID=Indian/Reunion:20251221T090000
DTEND;TZID=Indian/Reunion:20251221T170000
DTSTAMP:20260426T053453
CREATED:20251222T104446Z
LAST-MODIFIED:20251222T104457Z
UID:20222-1766307600-1766336400@loyolacollegekerala.edu.in
SUMMARY:Christmas Celebration Of All Kerala  Wheelchair Association Right Federation.
DESCRIPTION:The Christmas celebration of the All Kerala Wheelchair Association Rights Federation was organized in association with Loyola College of Social Sciences and coordinated by the Department of Social Work. The programme began with registration\, followed by a welcome address by Mr. Rajesh and a presidential address by Smt. Sindhu Surendran. The event was inaugurated by Sri. Sabarinath\, Ex-MLA\, who emphasized empowerment and opportunities for persons with disabilities. The Chief Guest\, Sri. Moideenkutty\, delivered an inspiring message on inclusion and self-reliance. Dr. Jasmin Sarah Alexander\, Assistant Professor\, Department of Social Work\, Loyola College\, served as the faculty in charge and one of the main guests. The programme concluded with food\, cultural programmes\, and a DJ performance. \n  \n \n  \nhttps://loyolacollegekerala.edu.in/wp-content/uploads/2025/12/WA.mp4
URL:https://loyolacollegekerala.edu.in/event/christmas-celebration-of-all-kerala-wheelchair-association-right-federation/
END:VEVENT
BEGIN:VEVENT
DTSTART;TZID=Indian/Reunion:20251222T100000
DTEND;TZID=Indian/Reunion:20251222T130000
DTSTAMP:20260426T053453
CREATED:20251218T104345Z
LAST-MODIFIED:20251220T130838Z
UID:20081-1766397600-1766408400@loyolacollegekerala.edu.in
SUMMARY:National Mathematics Day Celebrations - 2025
DESCRIPTION:National Mathematics Day Celebrations – 2025 \nTheme: Mathematics\, Art & Creativity. \nDate: 22 December 2025\, 10:00AM – 1PM \nLocation: Loyola College of Social Sciences (Autonomous)\, Sreekariyam\, Thiruvanathapuram. \nOrganised by Kerala State Council for Science and Technology (KSCSTE) Thiruvananthapuram  \nin association with Department of Data Science and department of Fintech &AI\, Loyola College Social Sciences(Autonomous) \n  \n \n 
URL:https://loyolacollegekerala.edu.in/event/national-mathematics-day-celebrations-2025/
END:VEVENT
BEGIN:VEVENT
DTSTART;TZID=Indian/Reunion:20251223T140000
DTEND;TZID=Indian/Reunion:20251223T160000
DTSTAMP:20260426T053453
CREATED:20251218T095250Z
LAST-MODIFIED:20251218T095604Z
UID:20075-1766498400-1766505600@loyolacollegekerala.edu.in
SUMMARY:Lumerea Christmas Celebration 2025
DESCRIPTION:Date : 23 December 2025 \nLocation: Sutter Hall\, LCSS \nChief Guest: Joseph C Mathew \nMedia Critic and Political Analyst
URL:https://loyolacollegekerala.edu.in/event/lumerea-christmas-celebration-2025/
END:VEVENT
END:VCALENDAR