BEGIN:VCALENDAR
VERSION:2.0
PRODID:-//Loyola College Of Social Science (Autonomous) - ECPv6.15.9//NONSGML v1.0//EN
CALSCALE:GREGORIAN
METHOD:PUBLISH
X-WR-CALNAME:Loyola College Of Social Science (Autonomous)
X-ORIGINAL-URL:https://loyolacollegekerala.edu.in
X-WR-CALDESC:Events for Loyola College Of Social Science (Autonomous)
REFRESH-INTERVAL;VALUE=DURATION:PT1H
X-Robots-Tag:noindex
X-PUBLISHED-TTL:PT1H
BEGIN:VTIMEZONE
TZID:Indian/Reunion
BEGIN:STANDARD
TZOFFSETFROM:+0400
TZOFFSETTO:+0400
TZNAME:+04
DTSTART:20250101T000000
END:STANDARD
END:VTIMEZONE
BEGIN:VEVENT
DTSTART;TZID=Indian/Reunion:20260106T140000
DTEND;TZID=Indian/Reunion:20260106T170000
DTSTAMP:20260426T035109
CREATED:20260103T050700Z
LAST-MODIFIED:20260103T080323Z
UID:20351-1767708000-1767718800@loyolacollegekerala.edu.in
SUMMARY:Invited Talk on AI For Business
DESCRIPTION:Invited Talk on AI For Business \nResource person: Justin Paul. \nLocation: Education Theatre\,  Loyola College of Social Sciences\, Sreekariyam\, Trivandrum – 695017 \n 
URL:https://loyolacollegekerala.edu.in/event/invited-talk-on-ai-for-business/
END:VEVENT
BEGIN:VEVENT
DTSTART;TZID=Indian/Reunion:20260112T090000
DTEND;TZID=Indian/Reunion:20260112T110000
DTSTAMP:20260426T035109
CREATED:20260112T105507Z
LAST-MODIFIED:20260112T105507Z
UID:20429-1768208400-1768215600@loyolacollegekerala.edu.in
SUMMARY:Innovation Ideation Interface
DESCRIPTION:Innovation Ideation Interface \nSpeaker : Ms Eksha Agrawal\, Business consultant with 10+ years of corporate experience. \nLocation : JM Hall\, Loyola College of Social Sciences(Autonomous)\, Trivandrum.
URL:https://loyolacollegekerala.edu.in/event/innovation-ideation-interface/
END:VEVENT
BEGIN:VEVENT
DTSTART;TZID=Indian/Reunion:20260112T110000
DTEND;TZID=Indian/Reunion:20260112T133000
DTSTAMP:20260426T035109
CREATED:20260112T111054Z
LAST-MODIFIED:20260112T111054Z
UID:20433-1768215600-1768224600@loyolacollegekerala.edu.in
SUMMARY:Talking Sex with Project
DESCRIPTION:Thiruvananthapuram District Administration\, Kanal in Association with Campus Connect. CSR Partner Guidehouse. \nTalking Sex with Project. Kerala’s first Comprehensive Sexuality Education Campaign \nLocation : Loyola College of Social Sciences (Autonomous) Sreekaryam\, Trivandrum \n \n 
URL:https://loyolacollegekerala.edu.in/event/talking-sex-with-project/
END:VEVENT
BEGIN:VEVENT
DTSTART;TZID=Indian/Reunion:20260113T140000
DTEND;TZID=Indian/Reunion:20260113T150000
DTSTAMP:20260426T035109
CREATED:20260113T051254Z
LAST-MODIFIED:20260113T051425Z
UID:20438-1768312800-1768316400@loyolacollegekerala.edu.in
SUMMARY:Interractive Session
DESCRIPTION:Resource Person: Rev.Fr.Michael Chirayath CST\nFounder Director\, Tribal School Chitwan\, Nepal. \nLocation: Sutter Hall\, Loyola College of Social Sciences(Autonomous)\, Thiruvananthapuram. \n 
URL:https://loyolacollegekerala.edu.in/event/interactive-session/
END:VEVENT
BEGIN:VEVENT
DTSTART;TZID=Indian/Reunion:20260113T150000
DTEND;TZID=Indian/Reunion:20260113T170000
DTSTAMP:20260426T035109
CREATED:20260113T051922Z
LAST-MODIFIED:20260113T051931Z
UID:20444-1768316400-1768323600@loyolacollegekerala.edu.in
SUMMARY:LITCOF 2026
DESCRIPTION:Loyola in The Company of Friends Discuss on \n“Oil Politics and Global Norms: Understanding U.S Actions in Venezuela and Venezuelan Resistance” \nAll are Welcome. \nTime :3:00PM \nLocation : JM Hall\, Loyola College of Social Sciences(Autonomous)\, Thiruvanathapuram.
URL:https://loyolacollegekerala.edu.in/event/litcof-2026/
END:VEVENT
BEGIN:VEVENT
DTSTART;TZID=Indian/Reunion:20260114T120000
DTEND;TZID=Indian/Reunion:20260114T170000
DTSTAMP:20260426T035109
CREATED:20260114T044717Z
LAST-MODIFIED:20260114T045225Z
UID:20449-1768392000-1768410000@loyolacollegekerala.edu.in
SUMMARY:Academic Collaboration Interface
DESCRIPTION:Resource Persons: \n\nDr. Philip G. Laird\nSenior Vice President -Global Engagement\,\nPublic Relations & Innovation.\nTrinity Western University\, Canada\nMs. Sobhana Jaya-Madhavan\nCo-President of the British Columbia-India Business Network\n\nLocation: Loyola College of Social Sciences (Autonomous)\, Thiruvananthapuram. \n \n 
URL:https://loyolacollegekerala.edu.in/event/academic-collaboration-interface/
END:VEVENT
BEGIN:VEVENT
DTSTART;TZID=Indian/Reunion:20260114T150000
DTEND;TZID=Indian/Reunion:20260114T170000
DTSTAMP:20260426T035109
CREATED:20260114T050513Z
LAST-MODIFIED:20260114T050520Z
UID:20452-1768402800-1768410000@loyolacollegekerala.edu.in
SUMMARY:Academic Collaboration Interface
DESCRIPTION:Resource Person: Mr. Dinesh P. Thampi & TCS Team \nTata Consultancy Services\, Vice President & Delivery Centre Head – Kerala) \nLocation: Principal’s Office\, Loyola College of Social Sciences (Thiruvanathapuram) \n \n  \n 
URL:https://loyolacollegekerala.edu.in/event/academic-collaboration-interface-2/
END:VEVENT
BEGIN:VEVENT
DTSTART;TZID=Indian/Reunion:20260115T203000
DTEND;TZID=Indian/Reunion:20260115T213000
DTSTAMP:20260426T035109
CREATED:20260114T111725Z
LAST-MODIFIED:20260114T111958Z
UID:20533-1768509000-1768512600@loyolacollegekerala.edu.in
SUMMARY:Higher Education Reforms- Opportunities for Learners
DESCRIPTION:For Parents\, Plus One & Plus two students \nResource Person: Dr Simon Thattil\nAcademic Director\, Loyola College of Social Sciences.\nFormer Dean\, University of Kerala\nFormer IQAC Director\, University of Kerala. \nMode: Online- Zoom \n \n  \n 
URL:https://loyolacollegekerala.edu.in/event/higher-education-reforms-opportunities-for-learners/
END:VEVENT
BEGIN:VEVENT
DTSTART;TZID=Indian/Reunion:20260117T073000
DTEND;TZID=Indian/Reunion:20260117T170000
DTSTAMP:20260426T035109
CREATED:20260117T065833Z
LAST-MODIFIED:20260117T065907Z
UID:20551-1768635000-1768669200@loyolacollegekerala.edu.in
SUMMARY:Loyocup 2025-26
DESCRIPTION:Location: School Ground
URL:https://loyolacollegekerala.edu.in/event/loyocup-2025-26/
END:VEVENT
BEGIN:VEVENT
DTSTART;TZID=Indian/Reunion:20260117T080000
DTEND;TZID=Indian/Reunion:20260123T170000
DTSTAMP:20260426T035109
CREATED:20260117T064026Z
LAST-MODIFIED:20260117T064159Z
UID:20547-1768636800-1769187600@loyolacollegekerala.edu.in
SUMMARY:Constitutional & Democratic Initiatives For Social transformation (CODE)
DESCRIPTION:7 Days Residential Training Program.\nLocation Sutter Hall \nContact Information:\nSindhura S Alappad +91 98462 00143
URL:https://loyolacollegekerala.edu.in/event/constitutional-democratic-initiatives-for-social-transformation-code/
END:VEVENT
BEGIN:VEVENT
DTSTART;TZID=Indian/Reunion:20260119T160000
DTEND;TZID=Indian/Reunion:20260119T170000
DTSTAMP:20260426T035109
CREATED:20260119T061026Z
LAST-MODIFIED:20260119T063824Z
UID:20556-1768838400-1768842000@loyolacollegekerala.edu.in
SUMMARY:Bridging Academia & Industry
DESCRIPTION:Official launch of the Student Chapter Trivandrum Management Association (TMA) \nLocation: Educational Theatre\, Loyola College of Social Sciences.
URL:https://loyolacollegekerala.edu.in/event/bridging-academia-industry/
END:VEVENT
BEGIN:VEVENT
DTSTART;TZID=Indian/Reunion:20260120T090000
DTEND;TZID=Indian/Reunion:20260121T170000
DTSTAMP:20260426T035109
CREATED:20260120T055043Z
LAST-MODIFIED:20260120T055400Z
UID:20563-1768899600-1769014800@loyolacollegekerala.edu.in
SUMMARY:Two days Workshop on Cognitive Behavioural Therapy(CBT)
DESCRIPTION:Two days Workshop on Cognitive Behavioural Therapy(CBT) \nOrganizer: Department of MSW Disaster Management \nResource Person: Mr. Shal Soman \nLocation: LES Conference Hall\, Loyola College of Social Sciences(Autonomous)\, Sreekariyam\, Thiruvananthapuram. \n \n 
URL:https://loyolacollegekerala.edu.in/event/department-of-msw-disaster-management/
END:VEVENT
BEGIN:VEVENT
DTSTART;TZID=Indian/Reunion:20260122T093000
DTEND;TZID=Indian/Reunion:20260122T133000
DTSTAMP:20260426T035109
CREATED:20260121T111848Z
LAST-MODIFIED:20260121T111848Z
UID:20594-1769074200-1769088600@loyolacollegekerala.edu.in
SUMMARY:Group Dynamics II
DESCRIPTION:Group Dynamics II with Mr. Brahmanayakam \nFor the students of the departments of BCom F&A\, BSC Psychology and BSC Data Science.
URL:https://loyolacollegekerala.edu.in/event/group-dynamics-ii/
END:VEVENT
BEGIN:VEVENT
DTSTART;TZID=Indian/Reunion:20260122T093000
DTEND;TZID=Indian/Reunion:20260122T153000
DTSTAMP:20260426T035109
CREATED:20260120T061713Z
LAST-MODIFIED:20260120T062759Z
UID:20571-1769074200-1769095800@loyolacollegekerala.edu.in
SUMMARY:Education for Peace: Reimagining Higher Education
DESCRIPTION:Organizer: Loyola College of Social Sciences (Autonomous)\, Sreekariyam & St.Xaviers’s College\, Thumba \nIn collaboration with  \nLoyola Institute of Peace and International Relations (LIPI)\, Kochi. \nLocation: JM Hall\, Loyola College of Social Sciences (Autonomous)\, Sreekariyam\, Thiruvananthapuram. \n  \n \n 
URL:https://loyolacollegekerala.edu.in/event/education-for-peace-reimagining-higher-education/
END:VEVENT
BEGIN:VEVENT
DTSTART;TZID=Indian/Reunion:20260123T090000
DTEND;TZID=Indian/Reunion:20260123T170000
DTSTAMP:20260426T035109
CREATED:20260123T050904Z
LAST-MODIFIED:20260123T051353Z
UID:20627-1769158800-1769187600@loyolacollegekerala.edu.in
SUMMARY:ARTS DAY NAVARANG 2025-26
DESCRIPTION:Guest of Honour: Deepu Mohanan\, Star Singer Fame. \nLocation: Sutter Hall\, Loyola College of Social Sciences(Autonomous)\, Thiruvananthapuram.
URL:https://loyolacollegekerala.edu.in/event/arts-day-navarang-2025-26/
END:VEVENT
BEGIN:VEVENT
DTSTART;TZID=Indian/Reunion:20260124T093000
DTEND;TZID=Indian/Reunion:20260124T170000
DTSTAMP:20260426T035109
CREATED:20260121T073405Z
LAST-MODIFIED:20260121T073506Z
UID:20586-1769247000-1769274000@loyolacollegekerala.edu.in
SUMMARY:LITCOF 2026
DESCRIPTION:LITCOF 2026 Organizes Exposure visit to Energy Management Centre\, TVPM \n  \n \n 
URL:https://loyolacollegekerala.edu.in/event/litcof-2026-2/
END:VEVENT
BEGIN:VEVENT
DTSTART;TZID=Indian/Reunion:20260124T100000
DTEND;TZID=Indian/Reunion:20260124T170000
DTSTAMP:20260426T035109
CREATED:20260124T103232Z
LAST-MODIFIED:20260124T105118Z
UID:20654-1769248800-1769274000@loyolacollegekerala.edu.in
SUMMARY:Exposure Visit to Life Skills BVET
DESCRIPTION:Exposure Visit to Life Skills BVET\, Chathannoor\, Kollam. \nOrganizer: Department of B Sc Psycholgy\, Loyola College of Social Sciences(Autonomous)\, Thiruvanathapuram.
URL:https://loyolacollegekerala.edu.in/event/exposure-visit-to-life-skills-bvet/
END:VEVENT
BEGIN:VEVENT
DTSTART;TZID=Indian/Reunion:20260126T093000
DTEND;TZID=Indian/Reunion:20260126T130000
DTSTAMP:20260426T035109
CREATED:20260123T052138Z
LAST-MODIFIED:20260123T052138Z
UID:20634-1769419800-1769432400@loyolacollegekerala.edu.in
SUMMARY:ALUMNI DAY 2026
DESCRIPTION:Honoring \nGolden Jubilee 1974-76 & Silver Jubilee 1999-01 Batches \nProf. TSN Pillai Memorial Awardee For Leadership \nShri Sajith Babu Memorial Awardee For Best NSS Volunteer \nDr Sunil Kumar\, Librarian on his Retirement. \nOrganizer: Loyola College Alumni Association\, Thiruvananthapuram. \nLocation: Loyola College of Social Sciences(Autonomous)\, Thiruvananthapuram. \n \n 
URL:https://loyolacollegekerala.edu.in/event/alumni-day-2026/
END:VEVENT
BEGIN:VEVENT
DTSTART;TZID=Indian/Reunion:20260127T090000
DTEND;TZID=Indian/Reunion:20260127T100000
DTSTAMP:20260426T035109
CREATED:20260127T055208Z
LAST-MODIFIED:20260127T055616Z
UID:20738-1769504400-1769508000@loyolacollegekerala.edu.in
SUMMARY:AI ERA IN HR
DESCRIPTION:  \nResource Person: Mr. Chandra Kumar C S \nCHRO and Head of Customer Experience\, Varthana \nLocation: JM Hall\, Loyola College of Social Sciences(Autonomous)\, Thiruvananthapuram. \nOrganizer : Department of Personnel Management \nLAMPS Coordinators- Sidharth B Pillai\, Karthika S Nair \n \n 
URL:https://loyolacollegekerala.edu.in/event/ai-era-in-hr/
END:VEVENT
BEGIN:VEVENT
DTSTART;TZID=Indian/Reunion:20260130T080000
DTEND;TZID=Indian/Reunion:20260130T170000
DTSTAMP:20260426T035109
CREATED:20260114T092736Z
LAST-MODIFIED:20260114T112040Z
UID:20518-1769760000-1769792400@loyolacollegekerala.edu.in
SUMMARY:Psyche-Fest 2026
DESCRIPTION:Department of Counselling Psychology (PG)in collaboration with Department of Psychology (FYUGP) Presents Psyche-Fest 2026 \n  \nRegistration link for Psyche-Fest PDF \nPSYCHFEST_2026 PDF
URL:https://loyolacollegekerala.edu.in/event/psyche-fest-2026/
END:VEVENT
BEGIN:VEVENT
DTSTART;TZID=Indian/Reunion:20260131T150000
DTEND;TZID=Indian/Reunion:20260131T170000
DTSTAMP:20260426T035109
CREATED:20260131T073411Z
LAST-MODIFIED:20260131T073744Z
UID:20946-1769871600-1769878800@loyolacollegekerala.edu.in
SUMMARY:Awareness Session on Understanding Palliative Care
DESCRIPTION:Organizer: Pallium India in Collaboration with Department of MSW Disaster Management. \nVenue: St.Thomas New Building\, Near St Thomas Church Poonthura.
URL:https://loyolacollegekerala.edu.in/event/awareness-session-on-understanding-palliative-care/
END:VEVENT
END:VCALENDAR